BEGIN:VCALENDAR
VERSION:2.0
PRODID:-//ARGENTINE AMERICAN CHAMBER OF COMMERCE OF FLORIDA, Inc. - ECPv6.15.20//NONSGML v1.0//EN
CALSCALE:GREGORIAN
METHOD:PUBLISH
X-ORIGINAL-URL:https://argentineamerican.org
X-WR-CALDESC:Eventos para ARGENTINE AMERICAN CHAMBER OF COMMERCE OF FLORIDA, Inc.
REFRESH-INTERVAL;VALUE=DURATION:PT1H
X-Robots-Tag:noindex
X-PUBLISHED-TTL:PT1H
BEGIN:VTIMEZONE
TZID:America/Argentina/Buenos_Aires
BEGIN:STANDARD
TZOFFSETFROM:-0300
TZOFFSETTO:-0300
TZNAME:-03
DTSTART:20250101T000000
END:STANDARD
END:VTIMEZONE
BEGIN:VEVENT
DTSTART;TZID=America/Argentina/Buenos_Aires:20260223T190000
DTEND;TZID=America/Argentina/Buenos_Aires:20260223T190000
DTSTAMP:20260420T134649
CREATED:20260219T192629Z
LAST-MODIFIED:20260219T192629Z
UID:5818-1771873200-1771873200@argentineamerican.org
SUMMARY:ACUERDO ARGENTINA – EEUU: oportunidades\, desafíos y escenarios
DESCRIPTION:El comercio entre Argentina y Estados Unidos está entrando en una nueva etapa. ¿Tu negocio está preparado?\nDesde la Cámara de Comercio Argentino Americana de la Florida\, a través del Comité de Comercio Exterior te invitamos al webinar: “ACUERDO ARGENTINA – EEUU: oportunidades\, desafíos y escenarios”\nA cargo de Gustavo Scarpetta\, Experto en Comercio Exterior y Economía\, referente en medios de comunicación de Argentina.\n\nUn encuentro clave para entender cómo este acuerdo impacta en las empresas que operan —o quieren operar— entre Argentina y Estados Unidos:\n oportunidades reales\n desafíos regulatorios\n escenarios posibles para 2026\n\n\n Lunes 23 de febrero \n\n\n 5 PM (Miami) | 7 PM (Argentina) \n\n Evento sin cargo | con registro previo desde aquí: https://bit.ly/4s1KfsY\n\n Información estratégica para quienes toman decisiones en comercio internacional.
URL:https://argentineamerican.org/evento/acuerdo-argentina-eeuu-oportunidades-desafios-y-escenarios/
CATEGORIES:Webinar
ATTACH;FMTTYPE=image/jpeg:https://argentineamerican.org/wp-content/uploads/2026/02/Gustavo_Scarpetta_Pop_up.jpg
END:VEVENT
END:VCALENDAR