BEGIN:VCALENDAR
VERSION:2.0
PRODID:-//ARGENTINE AMERICAN CHAMBER OF COMMERCE OF FLORIDA, Inc. - ECPv6.15.20//NONSGML v1.0//EN
CALSCALE:GREGORIAN
METHOD:PUBLISH
X-WR-CALNAME:ARGENTINE AMERICAN CHAMBER OF COMMERCE OF FLORIDA, Inc.
X-ORIGINAL-URL:https://argentineamerican.org
X-WR-CALDESC:Eventos para ARGENTINE AMERICAN CHAMBER OF COMMERCE OF FLORIDA, Inc.
REFRESH-INTERVAL;VALUE=DURATION:PT1H
X-Robots-Tag:noindex
X-PUBLISHED-TTL:PT1H
BEGIN:VTIMEZONE
TZID:America/Argentina/Buenos_Aires
BEGIN:STANDARD
TZOFFSETFROM:-0300
TZOFFSETTO:-0300
TZNAME:-03
DTSTART:20240101T000000
END:STANDARD
END:VTIMEZONE
BEGIN:VEVENT
DTSTART;TZID=America/Argentina/Buenos_Aires:20251204T170000
DTEND;TZID=America/Argentina/Buenos_Aires:20251204T190000
DTSTAMP:20260422T174202
CREATED:20251128T193152Z
LAST-MODIFIED:20251128T193152Z
UID:5795-1764867600-1764874800@argentineamerican.org
SUMMARY:WEBINAR "Estrategia 2026: cómo arreglar el avión en plena turbulencia"
DESCRIPTION:La disrupción tecnológica\, las tensiones geopolíticas y la volatilidad de los mercados ya no son escenarios futuros: son el presente. En este contexto\, las empresas no pueden esperar a “aterrizar” para rediseñar su estrategia.\n\nJueves 4 de diciembre\n5 p.m. (MIA) | 7 p.m. (ARG)\n\nSpeaker: Patricio Guitart – Founder & CEO\, Guitart Partners\n\nEn esta charla\, vamos a explorar:\n\n\nCómo liderar con visión en tiempos inciertos\n\n\nDónde encontrar espacios no explorados para innovar\n\n\nQué necesitan hoy los equipos para ejecutar con foco real\n\n\n\nY\, sobre todo\, quiénes serán las nuevas gacelas que lideren entre elefantes\nSi te toca decidir\, transformar o liderar en este contexto… este webinar es para vos. Registrate desde acá:  https://bit.ly/4oXbLqh
URL:https://argentineamerican.org/evento/webinar-estrategia-2026-como-arreglar-el-avion-en-plena-turbulencia/
CATEGORIES:Webinar
ATTACH;FMTTYPE=image/jpeg:https://argentineamerican.org/wp-content/uploads/2025/11/03.jpg
END:VEVENT
END:VCALENDAR