BEGIN:VCALENDAR
VERSION:2.0
PRODID:-//ARGENTINE AMERICAN CHAMBER OF COMMERCE OF FLORIDA, Inc. - ECPv6.15.20//NONSGML v1.0//EN
CALSCALE:GREGORIAN
METHOD:PUBLISH
X-WR-CALNAME:ARGENTINE AMERICAN CHAMBER OF COMMERCE OF FLORIDA, Inc.
X-ORIGINAL-URL:https://argentineamerican.org
X-WR-CALDESC:Eventos para ARGENTINE AMERICAN CHAMBER OF COMMERCE OF FLORIDA, Inc.
REFRESH-INTERVAL;VALUE=DURATION:PT1H
X-Robots-Tag:noindex
X-PUBLISHED-TTL:PT1H
BEGIN:VTIMEZONE
TZID:America/Argentina/Buenos_Aires
BEGIN:STANDARD
TZOFFSETFROM:-0300
TZOFFSETTO:-0300
TZNAME:-03
DTSTART:20240101T000000
END:STANDARD
END:VTIMEZONE
BEGIN:VEVENT
DTSTART;TZID=America/Argentina/Buenos_Aires:20251202T150000
DTEND;TZID=America/Argentina/Buenos_Aires:20251202T160000
DTSTAMP:20260422T181529
CREATED:20251128T191926Z
LAST-MODIFIED:20251128T191926Z
UID:5788-1764687600-1764691200@argentineamerican.org
SUMMARY:WEBINAR "Agua\, energía\, aire y residuos: los aliados invisibles de tu rentabilidad".
DESCRIPTION:El Comité Empresarial de Sostenibilidad de la AACC invita al webinar “Agua\, energía\, aire y residuos: los aliados invisibles de tu rentabilidad”\, del ciclo “Innovar para Crecer: Eficiencia y Rentabilidad para Restaurantes y Hoteles en Florida”.\n\nMartes 2 de diciembre\n3 p.m a 4 p.m.\nVía Zoom\n\nVení a descubrir cómo aplicar conceptos inteligentes de forma práctica en tu negocio\, para reducir costos y destacarte ante tus clientes\, junto a Roger Winnik (Co-Owner & CTO de DIGITAL BAY TECH LLC) y Josefina Cura (Co-Founder and Director of Sustainability\, Environment & Circular Economy de EIG ENGINEERING CONSULTING LLC)\n\nEvento sin cargo\, con registro previo. Reservá tu lugar desde aquí: https://bit.ly/49Lrcgn
URL:https://argentineamerican.org/evento/webinar-agua-energia-aire-y-residuos-los-aliados-invisibles-de-tu-rentabilidad/
CATEGORIES:Webinar
ATTACH;FMTTYPE=image/jpeg:https://argentineamerican.org/wp-content/uploads/2025/11/01.jpg
END:VEVENT
END:VCALENDAR