BEGIN:VCALENDAR
VERSION:2.0
PRODID:-//ARGENTINE AMERICAN CHAMBER OF COMMERCE OF FLORIDA, Inc. - ECPv6.15.20//NONSGML v1.0//EN
CALSCALE:GREGORIAN
METHOD:PUBLISH
X-WR-CALNAME:ARGENTINE AMERICAN CHAMBER OF COMMERCE OF FLORIDA, Inc.
X-ORIGINAL-URL:https://argentineamerican.org
X-WR-CALDESC:Eventos para ARGENTINE AMERICAN CHAMBER OF COMMERCE OF FLORIDA, Inc.
REFRESH-INTERVAL;VALUE=DURATION:PT1H
X-Robots-Tag:noindex
X-PUBLISHED-TTL:PT1H
BEGIN:VTIMEZONE
TZID:America/Argentina/Buenos_Aires
BEGIN:STANDARD
TZOFFSETFROM:-0300
TZOFFSETTO:-0300
TZNAME:-03
DTSTART:20240101T000000
END:STANDARD
END:VTIMEZONE
BEGIN:VEVENT
DTSTART;TZID=America/Argentina/Buenos_Aires:20250306T160000
DTEND;TZID=America/Argentina/Buenos_Aires:20250306T160000
DTSTAMP:20260425T082442
CREATED:20250303T162701Z
LAST-MODIFIED:20250303T162804Z
UID:5494-1741276800-1741276800@argentineamerican.org
SUMMARY:La Experiencia de Emprender e Innovar en USA
DESCRIPTION:Te invitamos a un nuevo evento del Comité de Innovación y Entrepreneurship de la AACC.\nEn esta oportunidad\, Patricio Guitart – Coordinador del Comité – entrevistará online a Mariano Cariola (CEO de Cariola Group)\, quien nos contará acerca de “La Experiencia de Emprender e Innovar en USA”.\n\n Jueves 6 de Marzo.\n 4pm Miami.\n Online\, vía Zoom.\n\nAcompáñanos y enriquécete compartiendo experiencias de emprendedores que hicieron su camino en Estados Unidos.\n\nCupos limitados. Inscríbete sin cargo desde aquí https://bit.ly/3DbcLo3
URL:https://argentineamerican.org/evento/la-experiencia-de-emprender-e-innovar-en-usa/
CATEGORIES:Webinar
ATTACH;FMTTYPE=image/jpeg:https://argentineamerican.org/wp-content/uploads/2025/03/Webinar-Pop-Up.jpg
END:VEVENT
END:VCALENDAR