BEGIN:VCALENDAR
VERSION:2.0
PRODID:-//ARGENTINE AMERICAN CHAMBER OF COMMERCE OF FLORIDA, Inc. - ECPv6.15.20//NONSGML v1.0//EN
CALSCALE:GREGORIAN
METHOD:PUBLISH
X-ORIGINAL-URL:https://argentineamerican.org
X-WR-CALDESC:Eventos para ARGENTINE AMERICAN CHAMBER OF COMMERCE OF FLORIDA, Inc.
REFRESH-INTERVAL;VALUE=DURATION:PT1H
X-Robots-Tag:noindex
X-PUBLISHED-TTL:PT1H
BEGIN:VTIMEZONE
TZID:UTC
BEGIN:STANDARD
TZOFFSETFROM:+0000
TZOFFSETTO:+0000
TZNAME:UTC
DTSTART:20220101T000000
END:STANDARD
END:VTIMEZONE
BEGIN:VEVENT
DTSTART;TZID=UTC:20230511T180000
DTEND;TZID=UTC:20230511T180000
DTSTAMP:20260424T171250
CREATED:20230605T230942Z
LAST-MODIFIED:20230605T231007Z
UID:4454-1683828000-1683828000@argentineamerican.org
SUMMARY:Business Networking Exchange
DESCRIPTION:Connecting Argentina\, Spain and Mexico \n 
URL:https://argentineamerican.org/evento/business-networking-exchange/
LOCATION:uma house\, 1775 james ave miami beach
CATEGORIES:Networking
ATTACH;FMTTYPE=image/jpeg:https://argentineamerican.org/wp-content/uploads/2023/06/Imagen-de-WhatsApp-2023-06-05-a-las-16.55.31.jpg
END:VEVENT
BEGIN:VEVENT
DTSTART;TZID=UTC:20230511T180000
DTEND;TZID=UTC:20230511T180000
DTSTAMP:20260424T171250
CREATED:20230605T231402Z
LAST-MODIFIED:20230605T231526Z
UID:4457-1683828000-1683828000@argentineamerican.org
SUMMARY:Fotos del evento: Business Networking Exchange
DESCRIPTION:
URL:https://argentineamerican.org/evento/fotos-del-evento-business-networking-exchange/
LOCATION:uma house\, 1775 james ave miami beach
CATEGORIES:Networking
ATTACH;FMTTYPE=image/jpeg:https://argentineamerican.org/wp-content/uploads/2023/06/Imagen-de-WhatsApp-2023-06-05-a-las-11.23.28-Mediano.jpg
END:VEVENT
END:VCALENDAR