BEGIN:VCALENDAR
VERSION:2.0
PRODID:-//ARGENTINE AMERICAN CHAMBER OF COMMERCE OF FLORIDA, Inc. - ECPv6.15.20//NONSGML v1.0//EN
CALSCALE:GREGORIAN
METHOD:PUBLISH
X-ORIGINAL-URL:https://argentineamerican.org
X-WR-CALDESC:Eventos para ARGENTINE AMERICAN CHAMBER OF COMMERCE OF FLORIDA, Inc.
REFRESH-INTERVAL;VALUE=DURATION:PT1H
X-Robots-Tag:noindex
X-PUBLISHED-TTL:PT1H
BEGIN:VTIMEZONE
TZID:UTC
BEGIN:STANDARD
TZOFFSETFROM:+0000
TZOFFSETTO:+0000
TZNAME:UTC
DTSTART:20210101T000000
END:STANDARD
END:VTIMEZONE
BEGIN:VEVENT
DTSTART;TZID=UTC:20221216T190000
DTEND;TZID=UTC:20221216T190000
DTSTAMP:20260425T004545
CREATED:20230313T225618Z
LAST-MODIFIED:20230330T013654Z
UID:3445-1671217200-1671217200@argentineamerican.org
SUMMARY:Networking - Cocktail de Fin de Año
DESCRIPTION:Networking – Cocktail de Fin de Año\n16 de Diciembre a las 19.00 hs.\nHotel SOFITEL RECOLETA\nSalon Cabildo A\nPosadas 1232\nCABA Argentina\nR.S.V.P.\nCHAPTER BS AS\nchapterba@argentineamerican.org
URL:https://argentineamerican.org/evento/networking-cocktail-de-fin-de-ano/
LOCATION:Hotel SOFITEL RECOLETA\, Posadas 1232\, Buenos Aires\, Argentina
CATEGORIES:Networking
END:VEVENT
END:VCALENDAR