BEGIN:VCALENDAR
VERSION:2.0
PRODID:-//ARGENTINE AMERICAN CHAMBER OF COMMERCE OF FLORIDA, Inc. - ECPv6.15.20//NONSGML v1.0//EN
CALSCALE:GREGORIAN
METHOD:PUBLISH
X-WR-CALNAME:ARGENTINE AMERICAN CHAMBER OF COMMERCE OF FLORIDA, Inc.
X-ORIGINAL-URL:https://argentineamerican.org
X-WR-CALDESC:Eventos para ARGENTINE AMERICAN CHAMBER OF COMMERCE OF FLORIDA, Inc.
REFRESH-INTERVAL;VALUE=DURATION:PT1H
X-Robots-Tag:noindex
X-PUBLISHED-TTL:PT1H
BEGIN:VTIMEZONE
TZID:America/Argentina/Buenos_Aires
BEGIN:STANDARD
TZOFFSETFROM:-0300
TZOFFSETTO:-0300
TZNAME:-03
DTSTART:20240101T000000
END:STANDARD
END:VTIMEZONE
BEGIN:VEVENT
DTSTART;VALUE=DATE:20250327
DTEND;VALUE=DATE:20250329
DTSTAMP:20260422T141039
CREATED:20250321T163013Z
LAST-MODIFIED:20250321T163013Z
UID:5544-1743033600-1743206399@argentineamerican.org
SUMMARY:eMerge Américas
DESCRIPTION:El 27 y 28 de marzo\, toda la comunidad de negocios de la Florida estará en el mismo lugar:\n«eMerge Américas»\, la principal conferencia y exposición global de tecnología\, para experimentar en primera persona la innovación y las tendencias más novedosas.\nInversores\, startups y empresas se dan cita para escuchar a los referentes número 1 del sector\, hacer networking y concretar negocios.\n27 y 28 de marzo\nMiami Beach Convention Center\n1901 Convention Ctr Dr\, Miami Beach\,\nFL 33139\, Estados Unidos\n\n ¡Atención! \nSOCIOS AACC cuentan con 50%OFF en sus tickets.\nEscribe a  info@argentineamerican.org y solicita tu código de descuento.\n\nMás información e inscripciones desde aquí:  emergeamericas.com
URL:https://argentineamerican.org/evento/emerge-americas/
LOCATION:Miami Beach Convention Center\, 1901 Convention Ctr Dr\, Miami Beach\, FL 33139\, Estados Unidos
CATEGORIES:Networking
ATTACH;FMTTYPE=image/jpeg:https://argentineamerican.org/wp-content/uploads/2025/03/eMerge-Americas_Pop-up.jpg
END:VEVENT
END:VCALENDAR