BEGIN:VCALENDAR
VERSION:2.0
PRODID:-//ARGENTINE AMERICAN CHAMBER OF COMMERCE OF FLORIDA, Inc. - ECPv6.15.20//NONSGML v1.0//EN
CALSCALE:GREGORIAN
METHOD:PUBLISH
X-ORIGINAL-URL:https://argentineamerican.org
X-WR-CALDESC:Eventos para ARGENTINE AMERICAN CHAMBER OF COMMERCE OF FLORIDA, Inc.
REFRESH-INTERVAL;VALUE=DURATION:PT1H
X-Robots-Tag:noindex
X-PUBLISHED-TTL:PT1H
BEGIN:VTIMEZONE
TZID:UTC
BEGIN:STANDARD
TZOFFSETFROM:+0000
TZOFFSETTO:+0000
TZNAME:UTC
DTSTART:20220101T000000
END:STANDARD
END:VTIMEZONE
BEGIN:VEVENT
DTSTART;TZID=UTC:20230208T163000
DTEND;TZID=UTC:20230208T193000
DTSTAMP:20260424T202202
CREATED:20230126T233432Z
LAST-MODIFIED:20230126T233432Z
UID:2864-1675873800-1675884600@argentineamerican.org
SUMMARY:Como potenciar el ecosistema de innovación
DESCRIPTION:COMITE INNOVACION\nComo potenciar el ecosistema de innovación \nMIAMI \nFebrero 8\, 2023 \n4:30pm – 7:30pm \n3310 Mary Street\, Suite 501\, Miami\, FL 33133 \n 
URL:https://argentineamerican.org/evento/como-potenciar-el-ecosistema-de-innovacion/
LOCATION:Kaufman Rossin\, 3310 Mary Street\, Miami\, Florida\, 33133\, Estados Unidos
CATEGORIES:Meeting,Networking
ATTACH;FMTTYPE=image/png:https://argentineamerican.org/wp-content/uploads/2023/01/unnamed.png
END:VEVENT
END:VCALENDAR