BEGIN:VCALENDAR
VERSION:2.0
PRODID:-//ARGENTINE AMERICAN CHAMBER OF COMMERCE OF FLORIDA, Inc. - ECPv6.15.20//NONSGML v1.0//EN
CALSCALE:GREGORIAN
METHOD:PUBLISH
X-WR-CALNAME:ARGENTINE AMERICAN CHAMBER OF COMMERCE OF FLORIDA, Inc.
X-ORIGINAL-URL:https://argentineamerican.org
X-WR-CALDESC:Eventos para ARGENTINE AMERICAN CHAMBER OF COMMERCE OF FLORIDA, Inc.
REFRESH-INTERVAL;VALUE=DURATION:PT1H
X-Robots-Tag:noindex
X-PUBLISHED-TTL:PT1H
BEGIN:VTIMEZONE
TZID:UTC
BEGIN:STANDARD
TZOFFSETFROM:+0000
TZOFFSETTO:+0000
TZNAME:UTC
DTSTART:20210101T000000
END:STANDARD
END:VTIMEZONE
BEGIN:VEVENT
DTSTART;TZID=UTC:20221104T170000
DTEND;TZID=UTC:20221104T193000
DTSTAMP:20260425T004110
CREATED:20230504T213735Z
LAST-MODIFIED:20230504T213735Z
UID:3705-1667581200-1667590200@argentineamerican.org
SUMMARY:Café con Aroma de mujer
DESCRIPTION:El Comité Empresarial de Mujeres AACC te invita junto a Febicham y la AACC a Café con aroma de mujer. Evento de Networking 2º edición \n4 de Noviembre de 5pm a 7:30 pm \n2980 ne 207th st STE 307 Iconic Workspaces – Aventura ParkSquare
URL:https://argentineamerican.org/evento/cafe-con-aroma-de-mujer/
LOCATION:Iconic Workspaces – Aventura ParkSquare\, 2980 ne 207th st STE 307\, Florida\, Estados Unidos
CATEGORIES:Networking
ATTACH;FMTTYPE=image/jpeg:https://argentineamerican.org/wp-content/uploads/2023/05/c1.jpeg
END:VEVENT
END:VCALENDAR