BEGIN:VCALENDAR
VERSION:2.0
PRODID:-//ARGENTINE AMERICAN CHAMBER OF COMMERCE OF FLORIDA, Inc. - ECPv6.15.20//NONSGML v1.0//EN
CALSCALE:GREGORIAN
METHOD:PUBLISH
X-ORIGINAL-URL:https://argentineamerican.org
X-WR-CALDESC:Eventos para ARGENTINE AMERICAN CHAMBER OF COMMERCE OF FLORIDA, Inc.
REFRESH-INTERVAL;VALUE=DURATION:PT1H
X-Robots-Tag:noindex
X-PUBLISHED-TTL:PT1H
BEGIN:VTIMEZONE
TZID:America/Argentina/Buenos_Aires
BEGIN:STANDARD
TZOFFSETFROM:-0300
TZOFFSETTO:-0300
TZNAME:-03
DTSTART:20250101T000000
END:STANDARD
END:VTIMEZONE
BEGIN:VEVENT
DTSTART;TZID=America/Argentina/Buenos_Aires:20260312T170000
DTEND;TZID=America/Argentina/Buenos_Aires:20260312T170000
DTSTAMP:20260420T065958
CREATED:20260304T171252Z
LAST-MODIFIED:20260312T172023Z
UID:5840-1773334800-1773334800@argentineamerican.org
SUMMARY:Comité Real Estate
DESCRIPTION:El Comité de Real Estate de la AACC te invita a un encuentro exclusivo donde se analiza\, en primera persona\, el surgimiento de un nuevo y promisorio sector de desarrollo inmobiliario: «NORTH MIAMI BEACH: donde comienza la próxima ola de inversión».\n\n 12 de marzo – 5:00 pm\n Evento presencial en The William\n16251 W Dixie Hwy\, North Miami Beach\, FL 33160\n\nLa charla girará alrededor de los siguientes temas:\n 18 nuevos desarrollos aprobados\n Primer proyecto de una nueva etapa de crecimiento urbano\n Oportunidad inmobiliaria + migratoria (califica para el EB-5 Immigrant Investor Program)\n Networking con referentes del sector\n\nUna experiencia para inversores\, desarrolladores y profesionales que buscan anticiparse al mercado y entender dónde se está moviendo el capital hoy.\n\nCupo limitado. Reservá tu lugar desde aquí:  https://bit.ly/4azQYo6
URL:https://argentineamerican.org/evento/comite-real-estate/
LOCATION:The William\, 16251 W Dixie Hwy\, North Miami Beach\, FL 33160
CATEGORIES:Charla
ATTACH;FMTTYPE=image/jpeg:https://argentineamerican.org/wp-content/uploads/2026/03/The-William-evento_Pop-up.jpg
END:VEVENT
END:VCALENDAR