BEGIN:VCALENDAR
VERSION:2.0
PRODID:-//ARGENTINE AMERICAN CHAMBER OF COMMERCE OF FLORIDA, Inc. - ECPv6.15.20//NONSGML v1.0//EN
CALSCALE:GREGORIAN
METHOD:PUBLISH
X-WR-CALNAME:ARGENTINE AMERICAN CHAMBER OF COMMERCE OF FLORIDA, Inc.
X-ORIGINAL-URL:https://argentineamerican.org
X-WR-CALDESC:Eventos para ARGENTINE AMERICAN CHAMBER OF COMMERCE OF FLORIDA, Inc.
REFRESH-INTERVAL;VALUE=DURATION:PT1H
X-Robots-Tag:noindex
X-PUBLISHED-TTL:PT1H
BEGIN:VTIMEZONE
TZID:America/Argentina/Buenos_Aires
BEGIN:STANDARD
TZOFFSETFROM:-0300
TZOFFSETTO:-0300
TZNAME:-03
DTSTART:20240101T000000
END:STANDARD
END:VTIMEZONE
BEGIN:VEVENT
DTSTART;TZID=America/Argentina/Buenos_Aires:20251030T170000
DTEND;TZID=America/Argentina/Buenos_Aires:20251030T170000
DTSTAMP:20260422T182349
CREATED:20251022T164928Z
LAST-MODIFIED:20251022T164939Z
UID:5751-1761843600-1761843600@argentineamerican.org
SUMMARY:Captar clientes en el mundo B2B ya no es solo un desafío
DESCRIPTION:¡Convierte la prospección en un sistema que genera resultados!\nCaptar clientes en el mundo B2B ya no es solo un desafío: es una oportunidad estratégica para escalar tu negocio con foco y previsibilidad.\n\nGisela Mana\, CEO de Signify Latam y consultora en comunicación estratégica B2B\, brindará una masterclass online exclusiva para profesionales y empresas que buscan construir un modelo de crecimiento sostenible y rentable.\n\n Jueves 30 de octubre\n 16 h (Miami) | 17 h (Argentina)\n Vía zoom\n\nSúmate y descubre cómo dejar de “buscar clientes” para empezar a atraer oportunidades.\n¡Los cupos son limitados! Asegura tu lugar desde aquí:  http://bit.ly/3WLXlga
URL:https://argentineamerican.org/evento/captar-clientes-en-el-mundo-b2b-ya-no-es-solo-un-desafio/
CATEGORIES:Charla
ATTACH;FMTTYPE=image/jpeg:https://argentineamerican.org/wp-content/uploads/2025/10/Masterclass-Gise_Pop-up.jpg
END:VEVENT
END:VCALENDAR